BEGIN:VCALENDAR
VERSION:2.0
PRODID:-//ExpressionEngine Easy iCalendar plugin//NONSGML v2.0.1//EN
X-WR-TIMEZONE:America/Chicago
X-WR-CALNAME:Upcoming Auctions
BEGIN:VEVENT
UID:160930
DTSTAMP:20260422T080000
DTSTART:20260422T080000
DTEND:20260503T180000
SUMMARY:May 2026 NEW Flooring Auction
LOCATION:71644 NE-50\, Steinauer\, NE 68441\, US
DESCRIPTION:Schaardt Auction Service is proud to present an exclusive on
 line auction featuring 20 pallets of various NEW flooring\, 
 sourced directly from the manufacturer. This flooring is cla
 ssified as 2nd quality\, meaning up to 10% of each product m
 ay contain minor imperfections such as off-shade color\, mark
 ings\, grain blemishes\, or sample board characteristics. Auct
 ion Highlights: No reserve – bid your price 10% buyer’s 
 premium applies 5.5% state sales tax applies Flooring sold 
 as is\, where is – no guarantees or warranties expressed o
 r implied All flooring is palletized for easy handling Inspe
 ction & Pickup Details: Pre-inspections available by appoin
 tment only Contact Clay Schaardt at 402-862-5903 to schedu
 le Loading assistance available with a skid loader Pickup lo
 cation: Schaardt Auction Yard - 71644 NE-50\, Steinauer\, NE 
 68441 Auction Closes: Sunday\, May 3\, 2025 Don’t miss this 
 opportunity to purchase quality flooring at your price. Regi
 ster and bid online with Schaardt Auction Service.
URL:https://www.schaardtauction.com/auctions/detail/bw160930
SEQUENCE:1
END:VEVENT
END:VCALENDAR